BEGIN:VCALENDAR
VERSION:2.0
PRODID:-//eventon.com NONSGML v1.0//EN
BEGIN:VEVENT
UID:69e9bd9855b39
DTSTAMP:20260423T063504
DTSTART:20220109T103000Z
DTEND:20220109T133000Z
LOCATION:Arte Reiki\,  Illescas\,  Toledo Calle Sor Livia Alcorta\,  20
SUMMARY:Taller Abre caminos angelical
DESCRIPTION: El abre caminos es una manera especial de conectar con la energía de luz y amor de los ángeles a través de un ritual meditativo.
END:VEVENT
END:VCALENDAR