BEGIN:VCALENDAR
VERSION:2.0
PRODID:-//eventon.com NONSGML v1.0//EN
BEGIN:VEVENT
UID:69e6e68359c62
DTSTAMP:20260421T025251
DTSTART:20221016T110000Z
DTEND:20221016T120000Z
LOCATION:Arte Reiki\,  Illescas\,  Toledo Calle Sor Livia Alcorta\,  20
SUMMARY:Meditación guiada ¨Elemento Aire ¨
DESCRIPTION: Ven a descubrir \,  disfrutar y experimentar el ¨Elemento Aire ¨ a través de una experiencia meditativa \,  que no te dejara indiferente. Suelta\,  confía \,  libérate\,  déjate fluir \,  y sobre todo se feliz ¡¡ Como siempre\,  recibiremos mensaje de nuestros oráculos. &nbsp;
END:VEVENT
END:VCALENDAR