BEGIN:VCALENDAR
VERSION:2.0
PRODID:-//eventon.com NONSGML v1.0//EN
BEGIN:VEVENT
UID:69e887bd8cccb
DTSTAMP:20260422T083301
DTSTART:20230304T100000Z
DTEND:20230304T140000Z
LOCATION:Arte Reiki\,  Illescas\,  Toledo Calle Sor Livia Alcorta\,  20
SUMMARY:Constelaciones familiares
DESCRIPTION: Las Constelaciones Familiares parten de la idea de que nuestros conflictos y problemas tienen a menudo sus raíces en nuestras familias a las cuales nos vinculamos por amor.
END:VEVENT
END:VCALENDAR