BEGIN:VCALENDAR
VERSION:2.0
PRODID:-//eventon.com NONSGML v1.0//EN
BEGIN:VEVENT
UID:69e912cdc9582
DTSTAMP:20260422T182621
DTSTART:20230730T103000Z
DTEND:20230730T133000Z
LOCATION:Arte Reiki\,  Illescas\,  Toledo Calle Sor Livia Alcorta\,  20
SUMMARY:Circulo  Transpersonal de mujeres
DESCRIPTION: Técnicas para hacer más fácil el poder guiar a mujeres que buscan\,  al igual que yo\,  un espacio de interacción y comunicación profunda.
END:VEVENT
END:VCALENDAR