BEGIN:VCALENDAR
VERSION:2.0
PRODID:-//eventon.com NONSGML v1.0//EN
BEGIN:VEVENT
UID:69eac400c14c6
DTSTAMP:20260424T011440
DTSTART:20231118T100000Z
DTEND:20231118T190000Z
LOCATION:Arte Reiki\,  Illescas\,  Toledo Calle Sor Livia Alcorta\,  20
SUMMARY:Curso Método Poora® Nivel I ¨ Reiki Terapéutico®¨
DESCRIPTION: Bienvenido al Curso de Reiki Terapéutico \,  dentro del programa de formación Método Poora®\,  una formación en terapia personalizada que te dará una nueva visión de trabajo en tu consulta. Podrás aplicarlo en primera persona e integrar a todos tus propios conocimientos\,  haciéndola única y poniéndola al servicio de la[..]
END:VEVENT
END:VCALENDAR