BEGIN:VCALENDAR
VERSION:2.0
PRODID:-//eventon.com NONSGML v1.0//EN
BEGIN:VEVENT
UID:69ed24f814f4b
DTSTAMP:20260425T203256
DTSTART:20230514T040000Z
DTEND:20230514T060000Z
LOCATION:
SUMMARY:Sesión   ¨Kap ¨
DESCRIPTION: KAP es una transmisión de energía de fuerza vital y estados de conciencia no duales. KAP activa tu energía Kundalini. Venant Wong es su creador. Nacemos con esta energía activa en todo su potencial\,  pero con el tiempo\,  nuestro sistema de creencias\,  miedos y experiencias\,  la expresión de nuestro yo[..]
END:VEVENT
END:VCALENDAR