BEGIN:VCALENDAR
VERSION:2.0
PRODID:-//eventon.com NONSGML v1.0//EN
BEGIN:VEVENT
UID:69ebcfe922648
DTSTAMP:20260424T201745
DTSTART:20240121T100000Z
DTEND:20240121T140000Z
LOCATION:Arte Reiki\,  Illescas\,  Toledo Calle Sor Livia Alcorta\,  20
SUMMARY:Curso Tarot Holistico
DESCRIPTION: El tarot es una práctica milenaria\,  un camino por el cual iniciamos la comprensión hacia uno mismo y todo lo que nos rodea.
END:VEVENT
END:VCALENDAR