BEGIN:VCALENDAR
VERSION:2.0
PRODID:-//eventon.com NONSGML v1.0//EN
BEGIN:VEVENT
UID:69ea1f646323c
DTSTAMP:20260423T133220
DTSTART:20241005T220000Z
DTEND:20241005T140000Z
LOCATION:Arte Reiki\,  Illescas\,  Toledo Calle Sor Livia Alcorta\,  20
SUMMARY:Constelaciones familiares
DESCRIPTION: Las Constelaciones Familiares parten de la idea de que nuestros conflictos y problemas tienen a menudo sus raíces en nuestras familias a las cuales nos vinculamos por amor.
END:VEVENT
END:VCALENDAR