BEGIN:VCALENDAR
VERSION:2.0
PRODID:-//eventon.com NONSGML v1.0//EN
BEGIN:VEVENT
UID:69e74755da0a2
DTSTAMP:20260421T094557
DTSTART:20250628T100000Z
DTEND:20250629T020000Z
LOCATION:
SUMMARY:Curso Registros akashicos I y II nivel
DESCRIPTION: Los registros Akáshicos son una técnica espiritual que nos conecta tanto con la sabiduría Universal como con nuestro Maestro Interior\,  son espacios energéticos donde se encuentran las memorias del alma. Es como una biblioteca donde se guarda toda la información de nuestra alma y de todas nuestras vidas. Es un[..]
END:VEVENT
END:VCALENDAR