BEGIN:VCALENDAR
VERSION:2.0
PRODID:-//eventon.com NONSGML v1.0//EN
BEGIN:VEVENT
UID:69e6a9c5dd475
DTSTAMP:20260420T223341
DTSTART:20250803T100000Z
DTEND:20250803T190000Z
LOCATION:Arte Reiki\,  Illescas\,  Toledo Calle Sor Livia Alcorta\,  20
SUMMARY:Curso de Reiki Usui Nivel I
DESCRIPTION: El Reiki Usui es una técnica de canalización por imposición de manos con uno mismo o hacia otras personas\,  animales o plantas.
END:VEVENT
END:VCALENDAR