BEGIN:VCALENDAR
VERSION:2.0
PRODID:-//eventon.com NONSGML v1.0//EN
BEGIN:VEVENT
UID:69ed568bc1afd
DTSTAMP:20260426T000427
DTSTART:20250518T110000Z
DTEND:20250518T120000Z
LOCATION:Arte Reiki\,  Illescas\,  Toledo Calle Sor Livia Alcorta\,  20
SUMMARY:Experiencia meditativa  ¨Diosa de Avalon   ¨
DESCRIPTION: Esta experiencia meditativa nos conecta con la Diosa de avalon \,  sus leyendas y la magia de la energía femenina. Ven a que el pozo te muestre lo que desees saber \,  recibe un mensaje del oráculo  de Avalon y disfruta de todos los beneficios de una meditación guiada. Si[..]
END:VEVENT
END:VCALENDAR