BEGIN:VCALENDAR
VERSION:2.0
PRODID:-//eventon.com NONSGML v1.0//EN
BEGIN:VEVENT
UID:69e92949eabd0
DTSTAMP:20260422T200217
DTSTART:20260426T103000Z
DTEND:20260426T133000Z
LOCATION:Arte Reiki\,  Illescas\,  Toledo Calle Sor Livia Alcorta\,  20
SUMMARY:Taller ¨Womb Blessing ¨
DESCRIPTION: Una bendición del útero es una experiencia transformadora\,  un renacer para cualquier mujer conectando con nuestro Sagrado Femenino. Creando una conexión profunda con la naturaleza\,  nuestro cuerpo físico\,  emocional y sutil\,  restaurando nuestro equilibrio\,  recuperando la pureza y nuestro poder interior\,  fuente de abundancia\,  sabiduría y fortaleza.
END:VEVENT
END:VCALENDAR